{
 "currentVersion": 11.5,
 "cimVersion": "3.5.0",
 "serviceDescription": "",
 "mapName": "Layers",
 "description": "",
 "copyrightText": "",
 "supportsDynamicLayers": true,
 "layers": [
  {
   "id": 0,
   "name": "Subbasins",
   "parentLayerId": -1,
   "defaultVisibility": true,
   "subLayerIds": null,
   "minScale": 32100,
   "maxScale": 0,
   "type": "Feature Layer",
   "geometryType": "esriGeometryPolygon",
   "supportsDynamicLegends": true
  }
 ],
 "tables": [],
 "spatialReference": {
  "wkid": 102707,
  "latestWkid": 3421,
  "xyTolerance": 0.00208383499199495,
  "zTolerance": 2,
  "mTolerance": 2.0E-4,
  "falseX": -17790500,
  "falseY": -19184900,
  "xyUnits": 1.3725506987923574E8,
  "falseZ": 0,
  "zUnits": 1,
  "falseM": -100000,
  "mUnits": 10000
 },
 "singleFusedMapCache": true,
 "tileInfo": {
  "rows": 256,
  "cols": 256,
  "dpi": 96,
  "format": "PNG",
  "compressionQuality": 0,
  "origin": {
   "x": -3.2155331137552634E7,
   "y": 4.643852552475685E7
  },
  "spatialReference": {
   "wkid": 102707,
   "latestWkid": 3421,
   "xyTolerance": 0.00208383499199495,
   "zTolerance": 2,
   "mTolerance": 2.0E-4,
   "falseX": -17790500,
   "falseY": -19184900,
   "xyUnits": 1.3725506987923574E8,
   "falseZ": 0,
   "zUnits": 1,
   "falseM": -100000,
   "mUnits": 10000
  },
  "lods": [
   {
    "level": 0,
    "resolution": 256339.8265954633,
    "scale": 2.9530407084611547E8
   },
   {
    "level": 1,
    "resolution": 128169.91329773165,
    "scale": 1.4765203542305773E8
   },
   {
    "level": 2,
    "resolution": 64084.956648865824,
    "scale": 7.382601771152887E7
   },
   {
    "level": 3,
    "resolution": 32042.478324432912,
    "scale": 3.6913008855764434E7
   },
   {
    "level": 4,
    "resolution": 16021.239162216456,
    "scale": 1.8456504427882217E7
   },
   {
    "level": 5,
    "resolution": 8010.619581108228,
    "scale": 9228252.213941108
   },
   {
    "level": 6,
    "resolution": 4005.309790554114,
    "scale": 4614126.106970554
   },
   {
    "level": 7,
    "resolution": 2002.654895277057,
    "scale": 2307063.053485277
   },
   {
    "level": 8,
    "resolution": 1001.3274476385285,
    "scale": 1153531.5267426386
   },
   {
    "level": 9,
    "resolution": 500.66372381926425,
    "scale": 576765.7633713193
   },
   {
    "level": 10,
    "resolution": 250.33186190963212,
    "scale": 288382.88168565964
   },
   {
    "level": 11,
    "resolution": 125.16593095481606,
    "scale": 144191.44084282982
   },
   {
    "level": 12,
    "resolution": 62.58296547740803,
    "scale": 72095.72042141491
   },
   {
    "level": 13,
    "resolution": 31.291482738704016,
    "scale": 36047.860210707455
   },
   {
    "level": 14,
    "resolution": 15.645741369352008,
    "scale": 18023.930105353727
   },
   {
    "level": 15,
    "resolution": 7.822870684676004,
    "scale": 9011.965052676864
   },
   {
    "level": 16,
    "resolution": 3.911435342338002,
    "scale": 4505.982526338432
   },
   {
    "level": 17,
    "resolution": 1.955717671169001,
    "scale": 2252.991263169216
   },
   {
    "level": 18,
    "resolution": 0.9778588355845005,
    "scale": 1126.495631584608
   },
   {
    "level": 19,
    "resolution": 0.48892941779225024,
    "scale": 563.247815792304
   },
   {
    "level": 20,
    "resolution": 0.24446470889612512,
    "scale": 281.623907896152
   },
   {
    "level": 21,
    "resolution": 0.12223235444806256,
    "scale": 140.811953948076
   },
   {
    "level": 22,
    "resolution": 0.06111617722403128,
    "scale": 70.405976974038
   },
   {
    "level": 23,
    "resolution": 0.03055808861201564,
    "scale": 35.202988487019
   }
  ]
 },
 "storageInfo": {
  "storageFormat": "esriMapCacheStorageModeCompactV2",
  "packetSize": 128
 },
 "initialExtent": {
  "xmin": 730341.9864510515,
  "ymin": 2.6814954994217996E7,
  "xmax": 743942.1859771783,
  "ymax": 2.683156133540767E7,
  "spatialReference": {
   "wkid": 102707,
   "latestWkid": 3421,
   "xyTolerance": 0.00208383499199495,
   "zTolerance": 2,
   "mTolerance": 2.0E-4,
   "falseX": -17790500,
   "falseY": -19184900,
   "xyUnits": 1.3725506987923574E8,
   "falseZ": 0,
   "zUnits": 1,
   "falseM": -100000,
   "mUnits": 10000
  }
 },
 "fullExtent": {
  "xmin": 618173.5933372304,
  "ymin": 2.6351965346356627E7,
  "xmax": 1106413.1778832786,
  "ymax": 2.7056969999988366E7,
  "zmin": 0,
  "zmax": 0,
  "mmin": null,
  "mmax": null,
  "spatialReference": {
   "wkid": 102707,
   "latestWkid": 3421,
   "xyTolerance": 0.00208383499199495,
   "zTolerance": 2,
   "mTolerance": 2.0E-4,
   "falseX": -17790500,
   "falseY": -19184900,
   "xyUnits": 1.3725506987923574E8,
   "falseZ": 0,
   "zUnits": 1,
   "falseM": -100000,
   "mUnits": 10000
  }
 },
 "datesInUnknownTimezone": false,
 "minScale": 36047.860210707455,
 "maxScale": 563.247815792304,
 "minLOD": 13,
 "maxLOD": 19,
 "units": "esriFeet",
 "supportedImageFormatTypes": "PNG32,PNG24,PNG,JPG,DIB,TIFF,EMF,PS,PDF,GIF,SVG,SVGZ,BMP",
 "documentInfo": {
  "Title": "FloodView.mxd",
  "Author": "",
  "Comments": "",
  "Subject": "Subbasins used with the ArcHydro framework.",
  "Category": "",
  "Version": "3.5.0",
  "AntialiasingMode": "Fast",
  "TextAntialiasingMode": "Force",
  "Keywords": "Subbasins,MapServer"
 },
 "supportsQueryDomains": true,
 "capabilities": "Map,Query,Data,TileMap",
 "supportedQueryFormats": "JSON, geoJSON, PBF",
 "hasVersionedData": true,
 "exportTilesAllowed": false,
 "referenceScale": 0.0,
 "datumTransformations": [
  {
   "geoTransforms": [
    {
     "wkid": 108001,
     "latestWkid": 1241,
     "transformForward": true,
     "name": "NAD_1927_To_NAD_1983_NADCON"
    }
   ]
  },
  {
   "geoTransforms": [
    {
     "wkid": 108001,
     "latestWkid": 1241,
     "transformForward": false,
     "name": "NAD_1927_To_NAD_1983_NADCON"
    }
   ]
  }
 ],
 "supportsDatumTransformation": true,
 "archivingInfo": {
  "supportsHistoricMoment": false
 },
 "supportsClipping": true,
 "supportsSpatialFilter": true,
 "supportsTimeRelation": true,
 "supportsQueryDataElements": true,
 "mapUnits": {
  "uwkid": 9003
 },
 "maxSelectionCount": 2000,
 "maxRecordCount": 2000,
 "maxImageHeight": 4096,
 "maxImageWidth": 4096,
 "supportedExtensions": "FeatureServer",
 "serviceItemId": "e147a307e7084986afb8b806d5ac29f6"
}
