{
 "documentInfo": {
  "Category": "",
  "Keywords": "contours 5ft 50m",
  "Version": "2.6.0",
  "Comments": "",
  "AntialiasingMode": "Fast",
  "Title": "Contours",
  "Author": "",
  "TextAntialiasingMode": "Force",
  "Subject": "5 foot and 50 meter contours."
 },
 "maxImageWidth": 4096,
 "wmtsScaleFactor": 0.00091863333333344881,
 "maxRecordCount": 2000,
 "tileInfo": {
  "lods": [
   {
    "level": 0,
    "scale": 1000000,
    "resolution": 868.05555555555554
   },
   {
    "level": 1,
    "scale": 500000,
    "resolution": 434.02777777777777
   },
   {
    "level": 2,
    "scale": 250000,
    "resolution": 217.01388888888889
   },
   {
    "level": 3,
    "scale": 100000,
    "resolution": 86.805555555555557
   },
   {
    "level": 4,
    "scale": 24000,
    "resolution": 20.833333333333332
   },
   {
    "level": 5,
    "scale": 10000,
    "resolution": 8.6805555555555554
   },
   {
    "level": 6,
    "scale": 5000,
    "resolution": 4.3402777777777777
   },
   {
    "level": 7,
    "scale": 2000,
    "resolution": 1.7361111111111109
   },
   {
    "level": 8,
    "scale": 1000,
    "resolution": 0.86805555555555547
   }
  ],
  "origin": {
   "x": -17790500,
   "y": 46438899.999999993
  },
  "format": "PNG",
  "compressionQuality": 0,
  "rows": 256,
  "dpi": 96,
  "spatialReference": {
   "falseM": -100000,
   "xyTolerance": 0.0032808333333333331,
   "mUnits": 10000,
   "zUnits": 10000,
   "latestWkid": 3421,
   "zTolerance": 0.001,
   "wkid": 102707,
   "xyUnits": 3048.00609601219276,
   "mTolerance": 0.001,
   "falseX": -17790500,
   "falseY": -19184900,
   "falseZ": -100000
  },
  "cols": 256
 },
 "description": "",
 "datesInUnknownTimezone": false,
 "supportsQueryDomains": true,
 "units": "esriFeet",
 "maxSelectionCount": 2000,
 "supportedImageFormatTypes": "PNG32,PNG24,PNG,JPG,DIB,TIFF,EMF,PS,PDF,GIF,SVG,SVGZ,BMP",
 "supportsClipping": true,
 "exportTilesAllowed": false,
 "maxImageHeight": 4096,
 "tables": [],
 "hasVersionedData": false,
 "supportsDatumTransformation": true,
 "cimVersion": "3.7.0",
 "supportsQueryDataElements": true,
 "layers": [
  {
   "subLayerIds": [
    1,
    2
   ],
   "maxScale": 0,
   "name": "Contours - 8,000",
   "defaultVisibility": true,
   "id": 0,
   "minScale": 8100,
   "supportsDynamicLegends": false,
   "type": "Group Layer",
   "parentLayerId": -1
  },
  {
   "subLayerIds": null,
   "maxScale": 0,
   "name": "5 Foot (2003)",
   "defaultVisibility": true,
   "id": 1,
   "minScale": 0,
   "supportsDynamicLegends": true,
   "type": "Feature Layer",
   "parentLayerId": 0,
   "geometryType": "esriGeometryPolyline"
  },
  {
   "subLayerIds": null,
   "maxScale": 0,
   "name": "50 meter",
   "defaultVisibility": true,
   "id": 2,
   "minScale": 0,
   "supportsDynamicLegends": true,
   "type": "Feature Layer",
   "parentLayerId": 0,
   "geometryType": "esriGeometryPolyline"
  },
  {
   "subLayerIds": [
    4
   ],
   "maxScale": 16000,
   "name": "Contours 8,000 - 32,000",
   "defaultVisibility": true,
   "id": 3,
   "minScale": 32100,
   "supportsDynamicLegends": false,
   "type": "Group Layer",
   "parentLayerId": -1
  },
  {
   "subLayerIds": null,
   "maxScale": 0,
   "name": "50 Meter",
   "defaultVisibility": true,
   "id": 4,
   "minScale": 0,
   "supportsDynamicLegends": true,
   "type": "Feature Layer",
   "parentLayerId": 3,
   "geometryType": "esriGeometryPolyline"
  }
 ],
 "mapName": "Layers",
 "minScale": 24000,
 "archivingInfo": {
  "supportsHistoricMoment": false
 },
 "spatialReference": {
  "falseM": -100000,
  "xyTolerance": 0.00073754589616514691,
  "mUnits": 10000,
  "zUnits": 1,
  "latestWkid": 3421,
  "zTolerance": 2,
  "wkid": 102707,
  "xyUnits": 137255069.879235744,
  "mTolerance": 2,
  "falseX": -17790500,
  "falseY": -19184900,
  "falseZ": 0
 },
 "tileImageInfo": {
  "bandCount": 1,
  "lercError": 0,
  "format": "PNG",
  "compressionQuality": 0
 },
 "fullExtent": {
  "ymin": 26339864.000158668,
  "xmin": 564058.4924974367,
  "ymax": 27013794.287261724,
  "xmax": 1109983.5614654087,
  "spatialReference": {
   "falseM": -100000,
   "xyTolerance": 0.00073754589616514691,
   "mUnits": 10000,
   "zUnits": 1,
   "latestWkid": 3421,
   "zTolerance": 2,
   "wkid": 102707,
   "xyUnits": 137255069.879235744,
   "mTolerance": 2,
   "falseX": -17790500,
   "falseY": -19184900,
   "falseZ": 0
  }
 },
 "supportedExtensions": "",
 "serviceItemId": "17bcc451d6144d429e6ab989372fceb1",
 "capabilities": "Map,Query,Data",
 "supportsDynamicLayers": true,
 "maxScale": 1000,
 "singleFusedMapCache": true,
 "currentVersion": 12.1,
 "storageInfo": {
  "storageFormat": "esriMapCacheStorageModeCompactV2",
  "packetSize": 128
 },
 "hasBranchVersionedData": false,
 "mapUnits": {
  "uwkid": 9003
 },
 "referenceScale": 0,
 "supportsSpatialFilter": true,
 "supportedQueryFormats": "JSON, geoJSON, PBF",
 "datumTransformations": [
  {
   "geoTransforms": [
    {
     "latestWkid": 1241,
     "transformForward": true,
     "wkid": 108001,
     "name": "NAD_1927_To_NAD_1983_NADCON"
    }
   ]
  },
  {
   "geoTransforms": [
    {
     "latestWkid": 1241,
     "transformForward": false,
     "wkid": 108001,
     "name": "NAD_1927_To_NAD_1983_NADCON"
    }
   ]
  }
 ],
 "initialExtent": {
  "ymin": 26715691.891415499,
  "xmin": 843318.78256051219,
  "ymax": 26725761.335859947,
  "xmax": 856326.56096181343,
  "spatialReference": {
   "falseM": -100000,
   "xyTolerance": 0.00073754589616514691,
   "mUnits": 10000,
   "zUnits": 1,
   "latestWkid": 3421,
   "zTolerance": 2,
   "wkid": 102707,
   "xyUnits": 137255069.879235744,
   "mTolerance": 2,
   "falseX": -17790500,
   "falseY": -19184900,
   "falseZ": 0
  }
 },
 "serviceDescription": "",
 "copyrightText": "",
 "supportsTimeRelation": true
}
