{
 "currentVersion": 11.5,
 "cimVersion": "3.5.0",
 "serviceDescription": "",
 "mapName": "Layers",
 "description": "",
 "copyrightText": "",
 "supportsDynamicLayers": true,
 "layers": [
  {
   "id": 0,
   "name": "Land use",
   "parentLayerId": -1,
   "defaultVisibility": true,
   "subLayerIds": null,
   "minScale": 24000,
   "maxScale": 0,
   "type": "Feature Layer",
   "geometryType": "esriGeometryPolygon",
   "supportsDynamicLegends": true
  }
 ],
 "tables": [],
 "spatialReference": {
  "wkid": 102707,
  "latestWkid": 3421,
  "xyTolerance": 0.00328083333333333,
  "zTolerance": 2,
  "mTolerance": 0.001,
  "falseX": -17790500,
  "falseY": -19184900,
  "xyUnits": 1.3725506987923574E8,
  "falseZ": 0,
  "zUnits": 1,
  "falseM": -100000,
  "mUnits": 10000
 },
 "singleFusedMapCache": true,
 "tileInfo": {
  "rows": 256,
  "cols": 256,
  "dpi": 96,
  "format": "PNG",
  "compressionQuality": 0,
  "origin": {
   "x": -17790500,
   "y": 4.643889999999999E7
  },
  "spatialReference": {
   "wkid": 102707,
   "latestWkid": 3421,
   "xyTolerance": 0.003280833333333333,
   "zTolerance": 0.001,
   "mTolerance": 0.001,
   "falseX": -17790500,
   "falseY": -19184900,
   "xyUnits": 3048.0060960121928,
   "falseZ": -100000,
   "zUnits": 10000,
   "falseM": -100000,
   "mUnits": 10000
  },
  "lods": [
   {
    "level": 0,
    "resolution": 868.0555555555555,
    "scale": 1000000
   },
   {
    "level": 1,
    "resolution": 434.02777777777777,
    "scale": 500000
   },
   {
    "level": 2,
    "resolution": 217.01388888888889,
    "scale": 250000
   },
   {
    "level": 3,
    "resolution": 86.80555555555556,
    "scale": 100000
   },
   {
    "level": 4,
    "resolution": 20.833333333333332,
    "scale": 24000
   },
   {
    "level": 5,
    "resolution": 8.680555555555555,
    "scale": 10000
   },
   {
    "level": 6,
    "resolution": 4.340277777777778,
    "scale": 5000
   },
   {
    "level": 7,
    "resolution": 1.736111111111111,
    "scale": 2000
   },
   {
    "level": 8,
    "resolution": 0.8680555555555555,
    "scale": 1000
   }
  ]
 },
 "storageInfo": {
  "storageFormat": "esriMapCacheStorageModeCompactV2",
  "packetSize": 128
 },
 "initialExtent": {
  "xmin": 775508.1791430466,
  "ymin": 2.675485097339052E7,
  "xmax": 792705.3592777267,
  "ymax": 2.676816347339052E7,
  "spatialReference": {
   "wkid": 102707,
   "latestWkid": 3421,
   "xyTolerance": 0.00328083333333333,
   "zTolerance": 2,
   "mTolerance": 0.001,
   "falseX": -17790500,
   "falseY": -19184900,
   "xyUnits": 1.3725506987923574E8,
   "falseZ": 0,
   "zUnits": 1,
   "falseM": -100000,
   "mUnits": 10000
  }
 },
 "fullExtent": {
  "xmin": 619961.7505251803,
  "ymin": 2.6639044080931194E7,
  "xmax": 872621.4991416782,
  "ymax": 2.6946848000099033E7,
  "spatialReference": {
   "wkid": 102707,
   "latestWkid": 3421,
   "xyTolerance": 0.00328083333333333,
   "zTolerance": 2,
   "mTolerance": 0.001,
   "falseX": -17790500,
   "falseY": -19184900,
   "xyUnits": 1.3725506987923574E8,
   "falseZ": 0,
   "zUnits": 1,
   "falseM": -100000,
   "mUnits": 10000
  }
 },
 "datesInUnknownTimezone": false,
 "minScale": 24000,
 "maxScale": 1000,
 "minLOD": 4,
 "maxLOD": 8,
 "units": "esriFeet",
 "supportedImageFormatTypes": "PNG32,PNG24,PNG,JPG,DIB,TIFF,EMF,PS,PDF,GIF,SVG,SVGZ,BMP",
 "documentInfo": {
  "Title": "Untitled.aprx",
  "Author": "",
  "Comments": "",
  "Subject": "Clark County land use from the 2018 Las Vegas Valley Master Plan Update",
  "Category": "",
  "Version": "2.6.0",
  "AntialiasingMode": "Fast",
  "TextAntialiasingMode": "Force",
  "Keywords": "mpu land use"
 },
 "supportsQueryDomains": true,
 "capabilities": "Map,Query,Data",
 "supportedQueryFormats": "JSON, geoJSON, PBF",
 "hasVersionedData": true,
 "exportTilesAllowed": false,
 "referenceScale": 0.0,
 "supportsDatumTransformation": true,
 "archivingInfo": {
  "supportsHistoricMoment": false
 },
 "supportsClipping": true,
 "supportsSpatialFilter": true,
 "supportsTimeRelation": true,
 "supportsQueryDataElements": true,
 "mapUnits": {
  "uwkid": 9003
 },
 "maxSelectionCount": 2000,
 "maxRecordCount": 2000,
 "maxImageHeight": 4096,
 "maxImageWidth": 4096,
 "supportedExtensions": "",
 "serviceItemId": "5a0fbeec58f145a9a0700b494d21debc"
}
