{
 "documentInfo": {
  "Category": "",
  "Keywords": "MajorStreets",
  "Version": "3.5.0",
  "Comments": "",
  "AntialiasingMode": "Fast",
  "Title": "Untitled.aprx",
  "Author": "",
  "TextAntialiasingMode": "Force",
  "Subject": "Major streets."
 },
 "maxImageWidth": 4096,
 "wmtsScaleFactor": 0.00091863333333344881,
 "maxRecordCount": 2000,
 "tileInfo": {
  "lods": [
   {
    "level": 0,
    "scale": 1000000,
    "resolution": 868.05555555555554
   },
   {
    "level": 1,
    "scale": 500000,
    "resolution": 434.02777777777777
   },
   {
    "level": 2,
    "scale": 250000,
    "resolution": 217.01388888888889
   },
   {
    "level": 3,
    "scale": 100000,
    "resolution": 86.805555555555557
   },
   {
    "level": 4,
    "scale": 24000,
    "resolution": 20.833333333333332
   },
   {
    "level": 5,
    "scale": 10000,
    "resolution": 8.6805555555555554
   },
   {
    "level": 6,
    "scale": 5000,
    "resolution": 4.3402777777777777
   },
   {
    "level": 7,
    "scale": 2000,
    "resolution": 1.7361111111111109
   },
   {
    "level": 8,
    "scale": 1000,
    "resolution": 0.86805555555555547
   }
  ],
  "origin": {
   "x": -17790500,
   "y": 46438899.999999993
  },
  "format": "PNG",
  "compressionQuality": 0,
  "rows": 256,
  "dpi": 96,
  "spatialReference": {
   "falseM": -100000,
   "xyTolerance": 0.0032808333333333335,
   "mUnits": 10000,
   "zUnits": 1,
   "latestWkid": 3421,
   "zTolerance": 2,
   "wkid": 102707,
   "xyUnits": 137255069.879235744,
   "mTolerance": 0.001,
   "falseX": -17790500,
   "falseY": -19184900,
   "falseZ": 0
  },
  "cols": 256
 },
 "description": "",
 "datesInUnknownTimezone": false,
 "supportsQueryDomains": true,
 "units": "esriFeet",
 "maxSelectionCount": 2000,
 "supportedImageFormatTypes": "PNG32,PNG24,PNG,JPG,DIB,TIFF,EMF,PS,PDF,GIF,SVG,SVGZ,BMP",
 "supportsClipping": true,
 "exportTilesAllowed": false,
 "maxImageHeight": 4096,
 "tables": [],
 "hasVersionedData": false,
 "supportsDatumTransformation": true,
 "cimVersion": "3.7.0",
 "supportsQueryDataElements": true,
 "layers": [
  {
   "subLayerIds": null,
   "maxScale": 0,
   "name": "Major Streets",
   "defaultVisibility": true,
   "id": 0,
   "minScale": 1300000,
   "supportsDynamicLegends": true,
   "type": "Feature Layer",
   "parentLayerId": -1,
   "geometryType": "esriGeometryPolyline"
  }
 ],
 "mapName": "Layers",
 "minScale": 0,
 "archivingInfo": {
  "supportsHistoricMoment": false
 },
 "spatialReference": {
  "falseM": -100000,
  "xyTolerance": 0.0032808333333333335,
  "mUnits": 10000,
  "zUnits": 1,
  "latestWkid": 3421,
  "zTolerance": 2,
  "wkid": 102707,
  "xyUnits": 137255069.879235744,
  "mTolerance": 0.001,
  "falseX": -17790500,
  "falseY": -19184900,
  "falseZ": 0
 },
 "tileImageInfo": {
  "bandCount": 1,
  "lercError": 0,
  "format": "PNG",
  "compressionQuality": 0
 },
 "fullExtent": {
  "ymin": 26339672.890687998,
  "xmin": 563995.20892799995,
  "ymax": 27013340.695871998,
  "xmax": 1110393.4312639998,
  "spatialReference": {
   "falseM": -100000,
   "xyTolerance": 0.0032808333333333335,
   "mUnits": 10000,
   "zUnits": 1,
   "latestWkid": 3421,
   "zTolerance": 2,
   "wkid": 102707,
   "xyUnits": 137255069.879235744,
   "mTolerance": 0.001,
   "falseX": -17790500,
   "falseY": -19184900,
   "falseZ": 0
  }
 },
 "supportedExtensions": "FeatureServer",
 "serviceItemId": "4b5decc7c5e349ebaab9121cf7a90e76",
 "capabilities": "Map,Query,Data",
 "supportsDynamicLayers": true,
 "maxScale": 0,
 "singleFusedMapCache": true,
 "currentVersion": 12.1,
 "storageInfo": {
  "storageFormat": "esriMapCacheStorageModeCompactV2",
  "packetSize": 128
 },
 "hasBranchVersionedData": false,
 "mapUnits": {
  "uwkid": 9003
 },
 "referenceScale": 0,
 "supportsSpatialFilter": true,
 "supportedQueryFormats": "JSON, geoJSON, PBF",
 "datumTransformations": [
  {
   "geoTransforms": [
    {
     "latestWkid": 1241,
     "transformForward": true,
     "wkid": 108001,
     "name": "NAD_1927_To_NAD_1983_NADCON"
    }
   ]
  },
  {
   "geoTransforms": [
    {
     "latestWkid": 1241,
     "transformForward": false,
     "wkid": 108001,
     "name": "NAD_1927_To_NAD_1983_NADCON"
    }
   ]
  }
 ],
 "initialExtent": {
  "ymin": 26255015.085054372,
  "xmin": 297834.87132901757,
  "ymax": 27097998.501505625,
  "xmax": 1376553.7688629818,
  "spatialReference": {
   "falseM": -100000,
   "xyTolerance": 0.0032808333333333335,
   "mUnits": 10000,
   "zUnits": 1,
   "latestWkid": 3421,
   "zTolerance": 2,
   "wkid": 102707,
   "xyUnits": 137255069.879235744,
   "mTolerance": 0.001,
   "falseX": -17790500,
   "falseY": -19184900,
   "falseZ": 0
  }
 },
 "serviceDescription": "",
 "copyrightText": "",
 "supportsTimeRelation": true
}
