View In:
ArcGIS JavaScript
ArcGIS Online Map Viewer
ArcGIS Earth
ArcGIS Pro
Service Description:
Map Name: Layers
Legend
All Layers and Tables
Dynamic Legend
Dynamic All Layers
Layers:
Description:
Service Item Id: 5a0fbeec58f145a9a0700b494d21debc
Copyright Text:
Spatial Reference:
102707
(3421)
LatestVCSWkid(0)
Single Fused Map Cache: true
Tile Info:
- Height: 256.0
- Width: 256.0
- DPI: 96.0
-
Levels of Detail: 24
-
Level ID: 0
[ Start Tile, End Tile ]
- Resolution: 256339.8265954633
- Scale: 2.9530407084611547E8
-
Level ID: 1
[ Start Tile, End Tile ]
- Resolution: 128169.91329773165
- Scale: 1.4765203542305773E8
-
Level ID: 2
[ Start Tile, End Tile ]
- Resolution: 64084.956648865824
- Scale: 7.382601771152887E7
-
Level ID: 3
[ Start Tile, End Tile ]
- Resolution: 32042.478324432912
- Scale: 3.6913008855764434E7
-
Level ID: 4
[ Start Tile, End Tile ]
- Resolution: 16021.239162216456
- Scale: 1.8456504427882217E7
-
Level ID: 5
[ Start Tile, End Tile ]
- Resolution: 8010.619581108228
- Scale: 9228252.213941108
-
Level ID: 6
[ Start Tile, End Tile ]
- Resolution: 4005.309790554114
- Scale: 4614126.106970554
-
Level ID: 7
[ Start Tile, End Tile ]
- Resolution: 2002.654895277057
- Scale: 2307063.053485277
-
Level ID: 8
[ Start Tile, End Tile ]
- Resolution: 1001.3274476385285
- Scale: 1153531.5267426386
-
Level ID: 9
[ Start Tile, End Tile ]
- Resolution: 500.66372381926425
- Scale: 576765.7633713193
-
Level ID: 10
[ Start Tile, End Tile ]
- Resolution: 250.33186190963212
- Scale: 288382.88168565964
-
Level ID: 11
[ Start Tile, End Tile ]
- Resolution: 125.16593095481606
- Scale: 144191.44084282982
-
Level ID: 12
[ Start Tile, End Tile ]
- Resolution: 62.58296547740803
- Scale: 72095.72042141491
-
Level ID: 13
[ Start Tile, End Tile ]
- Resolution: 31.291482738704016
- Scale: 36047.860210707455
-
Level ID: 14
[ Start Tile, End Tile ]
- Resolution: 15.645741369352008
- Scale: 18023.930105353727
-
Level ID: 15
[ Start Tile, End Tile ]
- Resolution: 7.822870684676004
- Scale: 9011.965052676864
-
Level ID: 16
[ Start Tile, End Tile ]
- Resolution: 3.911435342338002
- Scale: 4505.982526338432
-
Level ID: 17
[ Start Tile, End Tile ]
- Resolution: 1.955717671169001
- Scale: 2252.991263169216
-
Level ID: 18
[ Start Tile, End Tile ]
- Resolution: 0.9778588355845005
- Scale: 1126.495631584608
-
Level ID: 19
[ Start Tile, End Tile ]
- Resolution: 0.48892941779225024
- Scale: 563.247815792304
-
Level ID: 20
[ Start Tile, End Tile ]
- Resolution: 0.24446470889612512
- Scale: 281.623907896152
-
Level ID: 21
[ Start Tile, End Tile ]
- Resolution: 0.12223235444806256
- Scale: 140.811953948076
-
Level ID: 22
[ Start Tile, End Tile ]
- Resolution: 0.06111617722403128
- Scale: 70.405976974038
-
Level ID: 23
[ Start Tile, End Tile ]
- Resolution: 0.03055808861201564
- Scale: 35.202988487019
- Format: PNG
- Compression Quality: 0.0
- Origin: X: -3.2155331137552634E7
Y: 4.643852552475685E7
- Spatial Reference: 102707
(3421)
LatestVCSWkid(0)
Storage Info:
- Storage Format: esriMapCacheStorageModeCompactV2
- Packet Size: 128
Initial Extent:
XMin: 775508.1791430466
YMin: 2.675485097339052E7
XMax: 792705.3592777267
YMax: 2.676816347339052E7
Spatial Reference: 102707
(3421)
LatestVCSWkid(0)
Full Extent:
XMin: 619961.7505251803
YMin: 2.6639044080931194E7
XMax: 872621.4991416782
YMax: 2.6946848000099033E7
Spatial Reference: 102707
(3421)
LatestVCSWkid(0)
Units: esriFeet
Supported Image Format Types: PNG32,PNG24,PNG,JPG,DIB,TIFF,EMF,PS,PDF,GIF,SVG,SVGZ,BMP
Document Info:
Title: Untitled.aprx
Author:
Comments:
Subject: Clark County land use from the 2018 Las Vegas Valley Master Plan Update
Category:
Keywords: Landuse_2018MPU,MapServer
AntialiasingMode: Fast
TextAntialiasingMode: Force
Supports Dynamic Layers: true
MaxRecordCount: 2000
MaxSelectionCount: 2000
MaxImageHeight: 4096
MaxImageWidth: 4096
Supported Query Formats: JSON, geoJSON, PBF
Supports Query Data Elements: true
Min Scale: 36047.860210707455
Max Scale: 563.247815792304
Min LOD: 13
Max LOD: 19
Supports Datum Transformation: true
Child Resources:
Info
Dynamic Layer
Supported Operations:
Export Map
Identify
QueryLegends
QueryDomains
Find
Return Updates